BEGIN:VCALENDAR
VERSION:2.0
PRODID:-//OmniMagnetCalendar//EN
BEGIN:VEVENT
DTSTAMP:20190625T195740Z
STATUS:CONFIRMED
UID:hcmiami.clubs.harvard.edu570
DTSTART:20210121T230000Z
DTEND:20210122T010000Z
LOCATION:Miami, FL, USA,
SUMMARY:HAA Global Networking Night
DESCRIPTION:Please join us virtually via Zoom for the annual HAA Global Networking Night.
BEGIN:VALARM
TRIGGER:-PT15M
ACTION:DISPLAY
END:VALARM
TRANSP:OPAQUE
END:VEVENT
END:VCALENDAR
