BEGIN:VCALENDAR
VERSION:2.0
PRODID:-//OmniMagnetCalendar//EN
BEGIN:VEVENT
DTSTAMP:20190625T195740Z
STATUS:CONFIRMED
UID:hcmiami.clubs.harvard.edu845
DTSTART:20251023T220000Z
DTEND:20251023T233000Z
LOCATION:ChainBridge Distillery, 3500 Northeast 11th Avenue, Oakland Park, Fl, 33334,
SUMMARY:Harvard Alumni Private Tour & Tasting at ChainBridge Distillery
DESCRIPTION:Shared Event behind-the-scenes guided tour and tastings of award-winning spirits, and a lively reception with delicious light bites. Raise a glass, learn the craft, and connect with fellow alumni in a relaxed, spirited atmosphere!
BEGIN:VALARM
TRIGGER:-PT15M
ACTION:DISPLAY
END:VALARM
TRANSP:OPAQUE
END:VEVENT
END:VCALENDAR
