BEGIN:VCALENDAR
VERSION:2.0
PRODID:-//OmniMagnetCalendar//EN
BEGIN:VEVENT
DTSTAMP:20190625T195740Z
STATUS:CONFIRMED
UID:hcmiami.clubs.harvard.edu846
DTSTART:20251102T140000Z
DTEND:20251102T150000Z
LOCATION:Pier behind Jade, Miami, FL,
SUMMARY:Harvard Varsity Club 3.2 For Ben Abercrombie
DESCRIPTION:The Harvard Club of Miami invites you to join us at Brickell Key for a 5k that fundraises for Ben Abercrombie, a Harvard football player that became paralyzed in his first game in 2018.
BEGIN:VALARM
TRIGGER:-PT15M
ACTION:DISPLAY
END:VALARM
TRANSP:OPAQUE
END:VEVENT
END:VCALENDAR
