BEGIN:VCALENDAR
VERSION:2.0
PRODID:-//OmniMagnetCalendar//EN
BEGIN:VEVENT
DTSTAMP:20190625T195740Z
STATUS:CONFIRMED
UID:hcmiami.clubs.harvard.edu848
DTSTART:20251213T233000Z
DTEND:20251214T023000Z
LOCATION:New World Center, 500 17th St, Miami Beach, Fl, 33139,
SUMMARY:New World Symphony Concert & Reception - Honeck: Mahler 4
DESCRIPTION:Join Harvard Miami for a reception and captivating musical journey through Vienna’s golden age - Special rate for Harvard Miami at just $79!
BEGIN:VALARM
TRIGGER:-PT15M
ACTION:DISPLAY
END:VALARM
TRANSP:OPAQUE
END:VEVENT
END:VCALENDAR
