BEGIN:VCALENDAR
VERSION:2.0
PRODID:-//OmniMagnetCalendar//EN
BEGIN:VEVENT
DTSTAMP:20190625T195740Z
STATUS:CONFIRMED
UID:hcmiami.clubs.harvard.edu857
DTSTART:20251219T000000Z
DTEND:20251219T020000Z
LOCATION:Giselle, 15 NE 11th St, Miami, Fl, 33132,
SUMMARY:Holiday Mixer at Giselle
DESCRIPTION:Celebrate the holiday season and connect with old and new friends in a warm, cheerful and festive atmosphere.
BEGIN:VALARM
TRIGGER:-PT15M
ACTION:DISPLAY
END:VALARM
TRANSP:OPAQUE
END:VEVENT
END:VCALENDAR
