BEGIN:VCALENDAR
VERSION:2.0
PRODID:-//OmniMagnetCalendar//EN
BEGIN:VEVENT
DTSTAMP:20190625T195740Z
STATUS:CONFIRMED
UID:hcmiami.clubs.harvard.edu858
DTSTART:20251212T000000Z
DTEND:20251212T020000Z
LOCATION:MILA, Miami, Fl,
SUMMARY:Industry Dinner Series: Healthcare
DESCRIPTION:Join our fellow Harvard alumni for an intimate evening of connection and conversation at the exclusive MM Private Lounge located downstairs of MILA Restaurant in Miami Beach.
BEGIN:VALARM
TRIGGER:-PT15M
ACTION:DISPLAY
END:VALARM
TRANSP:OPAQUE
END:VEVENT
END:VCALENDAR
