BEGIN:VCALENDAR
VERSION:2.0
PRODID:-//OmniMagnetCalendar//EN
BEGIN:VEVENT
DTSTAMP:20190625T195740Z
STATUS:CONFIRMED
UID:hcmiami.clubs.harvard.edu872
DTSTART:20260325T210000Z
DTEND:20260326T000000Z
LOCATION:Level 6, 3480 Main Highway, 6th floor , Coconut Grove, Fl, 33133,
SUMMARY:GNN Members-Only
DESCRIPTION:
BEGIN:VALARM
TRIGGER:-PT15M
ACTION:DISPLAY
END:VALARM
TRANSP:OPAQUE
END:VEVENT
END:VCALENDAR
