BEGIN:VCALENDAR
VERSION:2.0
PRODID:-//OmniMagnetCalendar//EN
BEGIN:VEVENT
DTSTAMP:20190625T195740Z
STATUS:CONFIRMED
UID:hcmiami.clubs.harvard.edu875
DTSTART:20260312T230000Z
DTEND:20260313T010000Z
LOCATION:Sur La Table, 701 S Miami Ave, Suite 338, Miami, Fl, 33131,
SUMMARY:A Parisian Salmon Supper: A Hands-On Culinary Experience
DESCRIPTION:Join the Harvard Club of Miami for a hands-on culinary celebration inspired by the flavors and romance of Paris. Limited availability.
BEGIN:VALARM
TRIGGER:-PT15M
ACTION:DISPLAY
END:VALARM
TRANSP:OPAQUE
END:VEVENT
END:VCALENDAR
