BEGIN:VCALENDAR
VERSION:2.0
PRODID:-//OmniMagnetCalendar//EN
BEGIN:VEVENT
DTSTAMP:20190625T195740Z
STATUS:CONFIRMED
UID:hcmiami.clubs.harvard.edu876
DTSTART:20260912T201000Z
DTEND:20260913T001000Z
LOCATION:LoanDepot Park, 501 Marlins Way, Miami, FL, 33125,
SUMMARY:Harvard at the Ballpark - Marlins vs. Dodgers
DESCRIPTION:SAVE THE DATE. Join your fellow Crimson and cheer on the hometown Miami Marlins or show your spirit for the LA Dodgers.
BEGIN:VALARM
TRIGGER:-PT15M
ACTION:DISPLAY
END:VALARM
TRANSP:OPAQUE
END:VEVENT
END:VCALENDAR
