BEGIN:VCALENDAR
VERSION:2.0
PRODID:-//OmniMagnetCalendar//EN
BEGIN:VEVENT
DTSTAMP:20190625T195740Z
STATUS:CONFIRMED
UID:hcmiami.clubs.harvard.edu877
DTSTART:20260325T220000Z
DTEND:20260326T000000Z
LOCATION:Joia Beach Club, Miami, FL, 33132,
SUMMARY:Global Networking Night - Member Pre-Event Reception
DESCRIPTION:Current Harvard Club of Miami members are invited to an exclusive early-access reception featuring a complimentary drink ticket, dedicated networking time, and private access before general admission begins.
BEGIN:VALARM
TRIGGER:-PT15M
ACTION:DISPLAY
END:VALARM
TRANSP:OPAQUE
END:VEVENT
END:VCALENDAR
