BEGIN:VCALENDAR
VERSION:2.0
PRODID:-//OmniMagnetCalendar//EN
BEGIN:VEVENT
DTSTAMP:20190625T195740Z
STATUS:CONFIRMED
UID:hcmiami.clubs.harvard.edu882
DTSTART:20260502T230000Z
DTEND:20260503T020000Z
LOCATION:NWS, Miami Beach, Fl, 33139,
SUMMARY:New World Symphony Evening with Harvard Alumni
DESCRIPTION:Join Harvard Club of Miami and HBS Club of South Florida for a special evening at the New World Symphony on May 2. Special opportunity for Harvard Club Members - Discount to save on tickets! 
BEGIN:VALARM
TRIGGER:-PT15M
ACTION:DISPLAY
END:VALARM
TRANSP:OPAQUE
END:VEVENT
END:VCALENDAR
