BEGIN:VCALENDAR
VERSION:2.0
PRODID:-//OmniMagnetCalendar//EN
BEGIN:VEVENT
DTSTAMP:20190625T195740Z
STATUS:CONFIRMED
UID:hcmiami.clubs.harvard.edu411
DTSTART:20180109T230000Z
DTEND:20180110T010000Z
LOCATION:
SUMMARY:HAA Global Networking Night
DESCRIPTION:This special event brings alumni together on one night, in cities around the world.
BEGIN:VALARM
TRIGGER:-PT15M
ACTION:DISPLAY
END:VALARM
TRANSP:OPAQUE
END:VEVENT
END:VCALENDAR
